View In:
ArcGIS JavaScript
ArcGIS Online Map Viewer
ArcGIS Earth
Service Description: The Study Area Survey Measurements Mosaic Dataset is a collection of bathymetry and backscatter rasters compiled from numerous site-specific, field-oriented studies in the Outer Continental Shelf (OCS). The studies are fully or partially funded by BOEM, an agency within the U.S. Department of the Interior. They consist of sand resource reconnaissance surveys, sand placement surveys, research on baseline benthic ecological conditions, and environmental impact investigations pertaining to the potential effects of dredging operations on the physical, chemical, and biological environment. These data span several decades of published research and were collected and processed using a variety of instruments and software. Please refer to individual raster attributes and the associated study report(s) for details related to data acquisition and processing. This dataset will be updated regularly as new and existing data are incorporated into the Marine Minerals Information System (MMIS) geodatabase. Area covered: U.S. OCS (primarily 3nm to 12nm offshore).
Name: MMP/StudyAreaRasters
Description: The Study Area Survey Measurements Mosaic Dataset is a collection of bathymetry and backscatter rasters compiled from numerous site-specific, field-oriented studies in the Outer Continental Shelf (OCS). The studies are fully or partially funded by BOEM, an agency within the U.S. Department of the Interior. They consist of sand resource reconnaissance surveys, sand placement surveys, research on baseline benthic ecological conditions, and environmental impact investigations pertaining to the potential effects of dredging operations on the physical, chemical, and biological environment. These data span several decades of published research and were collected and processed using a variety of instruments and software. Please refer to individual raster attributes and the associated study report(s) for details related to data acquisition and processing. This dataset will be updated regularly as new and existing data are incorporated into the Marine Minerals Information System (MMIS) geodatabase. Area covered: U.S. OCS (primarily 3nm to 12nm offshore).
Single Fused Map Cache: false
Extent:
XMin: -172.01379251699998
YMin: -38.10702406099993
XMax: -47.414123932999985
YMax: 43.85602731500006
Spatial Reference: 4269
(4269)
LatestVCSWkid(0)
Initial Extent:
XMin: -172.01379251699998
YMin: -38.10702406099993
XMax: -47.414123932999985
YMax: 43.85602731500006
Spatial Reference: 4269
(4269)
LatestVCSWkid(0)
Full Extent:
XMin: -172.01379251699998
YMin: -38.10702406099993
XMax: -47.414123932999985
YMax: 43.85602731500006
Spatial Reference: 4269
(4269)
LatestVCSWkid(0)
Pixel Size X: 5.48E-7
Pixel Size Y: 5.48E-7
Band Count: 1
Pixel Type: F64
RasterFunction Infos: {"rasterFunctionInfos": [{
"name": "None",
"description": "",
"help": ""
}]}
Mensuration Capabilities: Basic
Inspection Capabilities:
Has Histograms: true
Has Colormap: false
Has Multi Dimensions : false
Rendering Rule:
Min Scale: 0
Max Scale: 0
Resampling: false
Copyright Text:
Service Data Type: esriImageServiceDataTypeGeneric
Min Values: -65
Max Values: 6331.22021484375
Mean Values: -19.654661624236127
Standard Deviation Values: 33.500522483263175
Object ID Field: OBJECTID
Fields:
-
OBJECTID
(
type: esriFieldTypeOID, alias: OBJECTID
)
-
Name
(
type: esriFieldTypeString, alias: Name, length: 200
)
-
MinPS
(
type: esriFieldTypeDouble, alias: MinPS
)
-
MaxPS
(
type: esriFieldTypeDouble, alias: MaxPS
)
-
LowPS
(
type: esriFieldTypeDouble, alias: LowPS
)
-
HighPS
(
type: esriFieldTypeDouble, alias: HighPS
)
-
Category
(
type: esriFieldTypeInteger, alias: Category
, Coded Values:
[0: Unknown]
, [1: Primary]
, [2: Overview]
, ...6 more...
)
-
Tag
(
type: esriFieldTypeString, alias: Tag, length: 100
)
-
GroupName
(
type: esriFieldTypeString, alias: GroupName, length: 100
)
-
ProductName
(
type: esriFieldTypeString, alias: ProductName, length: 100
)
-
CenterX
(
type: esriFieldTypeDouble, alias: CenterX
)
-
CenterY
(
type: esriFieldTypeDouble, alias: CenterY
)
-
ZOrder
(
type: esriFieldTypeInteger, alias: ZOrder
)
-
Start
(
type: esriFieldTypeInteger, alias: Begin Survey Date
)
-
End_
(
type: esriFieldTypeInteger, alias: End Survey Date
)
-
PixelValue
(
type: esriFieldTypeString, alias: Pixel Value, length: 30
, Coded Values:
[Bathymetry: Bathymetry]
, [Backscatter (Grayscale): Backscatter (Grayscale)]
, [Backscatter (Decibels): Backscatter (Decibels)]
)
-
Units
(
type: esriFieldTypeString, alias: Raster x/y Units, length: 10
, Coded Values:
[Meters: Meters]
, [Feet: Feet]
, [Other: Other]
)
-
Datum
(
type: esriFieldTypeString, alias: Vertical Datum, length: 10
)
-
Resolution
(
type: esriFieldTypeDouble, alias: Resolution
)
-
StudyID
(
type: esriFieldTypeString, alias: Study ID, length: 250
)
-
Originator
(
type: esriFieldTypeString, alias: Originator, length: 200
)
-
SupplementalInfo
(
type: esriFieldTypeString, alias: Supplemental Information, length: 4000
)
-
MetaFile
(
type: esriFieldTypeString, alias: Metadata Filename, length: 250
)
-
Constraints
(
type: esriFieldTypeString, alias: Access Constraints, length: 15
, Coded Values:
[Public: Public]
, [Not Public: Not Public]
)
-
CoordSystem
(
type: esriFieldTypeString, alias: Original Coordinate System, length: 100
)
-
Public_ReportLink
(
type: esriFieldTypeString, alias: Public Report Link, length: 500
)
-
Shape
(
type: esriFieldTypeGeometry, alias: Shape
)
-
Shape.STArea()
(
type: esriFieldTypeDouble, alias: Shape.STArea()
)
-
Shape.STLength()
(
type: esriFieldTypeDouble, alias: Shape.STLength()
)
Default Mosaic Method: Northwest
Allowed Mosaic Methods: NorthWest,Center,LockRaster,ByAttribute,Nadir,Viewpoint,Seamline,None
SortField:
SortValue: null
Mosaic Operator: First
Default Compression Quality: 75
Default Resampling Method: Bilinear
Max Record Count: 500
Max Image Height: 1000000
Max Image Width: 1000000
Max Download Image Count: 5
Max Mosaic Image Count: 500
Allow Raster Function: true
Allow Copy: true
Allow Analysis: true
Allow Compute TiePoints: false
Supports Statistics: true
Supports Advanced Queries: true
Use StandardizedQueries: true
Raster Type Infos:
Name: Raster Dataset
Description: Supports all ArcGIS Raster Datasets
Help:
Has Raster Attribute Table: false
Edit Fields Info: null
Ownership Based AccessControl For Rasters: null
Child Resources:
Info
Histograms
Statistics
Key Properties
Legend
Raster Function Infos
Supported Operations:
Export Image
Query
Identify
Download Rasters
Get Image Url
Measure
Compute Histograms
Compute Statistics Histograms
Get Samples
Compute Class Statistics
Query GPS Info
Find Images
Image to Map
Map to Image
Measure from Image
Image to Map Multiray
Query Boundary
Compute Pixel Location
Compute Angles
Validate
Project