The Study Area Survey Measurements Mosaic Dataset is a collection of bathymetry and backscatter rasters compiled from numerous site-specific, field-oriented studies in the Outer Continental Shelf (OCS). The studies are fully or partially funded by BOEM, an agency within the U.S. Department of the Interior. They consist of sand resource reconnaissance surveys, sand placement surveys, research on baseline benthic ecological conditions, and environmental impact investigations pertaining to the potential effects of dredging operations on the physical, chemical, and biological environment. These data span several decades of published research and were collected and processed using a variety of instruments and software. Please refer to individual raster attributes and the associated study report(s) for details related to data acquisition and processing. This dataset will be updated regularly as new and existing data are incorporated into the Marine Minerals Information System (MMIS) geodatabase. Area covered: U.S. OCS (primarily 3nm to 12nm offshore).<\/span><\/p><\/div><\/div><\/div>",
"serviceItemId": "2867778fb03f45fa910cc2ff20b467e2",
"name": "MMP/StudyAreaRasters",
"description": "The Study Area Survey Measurements Mosaic Dataset is a collection of bathymetry and backscatter rasters compiled from numerous site-specific, field-oriented studies in the Outer Continental Shelf (OCS). The studies are fully or partially funded by BOEM, an agency within the U.S. Department of the Interior. They consist of sand resource reconnaissance surveys, sand placement surveys, research on baseline benthic ecological conditions, and environmental impact investigations pertaining to the potential effects of dredging operations on the physical, chemical, and biological environment. These data span several decades of published research and were collected and processed using a variety of instruments and software. Please refer to individual raster attributes and the associated study report(s) for details related to data acquisition and processing. This dataset will be updated regularly as new and existing data are incorporated into the Marine Minerals Information System (MMIS) geodatabase. Area covered: U.S. OCS (primarily 3nm to 12nm offshore).<\/span><\/p><\/div><\/div><\/div>",
"extent": {
"xmin": -172.01379251699998,
"ymin": -38.10702406099993,
"xmax": -47.414123932999985,
"ymax": 43.85602731500006,
"spatialReference": {
"wkid": 4269,
"latestWkid": 4269
}
},
"initialExtent": {
"xmin": -172.01379251699998,
"ymin": -38.10702406099993,
"xmax": -47.414123932999985,
"ymax": 43.85602731500006,
"spatialReference": {
"wkid": 4269,
"latestWkid": 4269
}
},
"fullExtent": {
"xmin": -172.01379251699998,
"ymin": -38.10702406099993,
"xmax": -47.414123932999985,
"ymax": 43.85602731500006,
"spatialReference": {
"wkid": 4269,
"latestWkid": 4269
}
},
"sortableFields": "MinPS,MaxPS,LowPS,HighPS,CenterX,CenterY,ZOrder,Shape.STArea(),Shape.STLength(),Start,End_,Resolution",
"bandCount": 1,
"pixelType": "F64",
"minValues": [
-65
],
"maxValues": [
6331.22021484375
],
"meanValues": [
-19.654661624236127
],
"stdvValues": [
33.500522483263175
],
"serviceProperties": "NorthWest<\/MosaicMethod>First<\/MosaicOperator>true<\/SortAscending><\/LockImageID>Name<\/TileOrderField>0<\/TileOrderBase>600.000000<\/AvgImageSpacingX>300.000000<\/AvgImageSpacingY>0.0<\/ViewPointX>0.0<\/ViewPointY>0.0<\/ViewPointDefShiftX>0.0<\/ViewPointDefShiftY>None<\/CompressionMethod>75<\/CompressionQuality>0.010000<\/CompressionTolerance>Bilinear<\/SamplingMethod><\/ImageServiceProperties><\/ImageServer>",
"allowedFields": "Name,MinPS,MaxPS,LowPS,HighPS,Tag,GroupName,ProductName,CenterX,CenterY,ZOrder,Shape.STArea(),Shape.STLength(),Start,End_,PixelValue,Units,Datum,Resolution,StudyID,Originator,SupplementalInfo,MetaFile,Constraints,CoordSystem,Public_ReportLink",
"hasMultidimensions": false,
"pixelSizeX": 5.48E-7,
"pixelSizeY": 5.48E-7,
"meanPixelSize": 0.06100308095471391,
"datasetFormat": "AMD",
"uncompressedSize": 272059487388325568,
"blockWidth": 2048,
"blockHeight": 256,
"compressionType": "None",
"bandNames": [
"Band_1"
],
"allowCopy": true,
"allowAnalysis": true,
"itemAccess": false,
"inspectionCapabilities": "",
"minPixelSize": 0,
"maxPixelSize": 0,
"copyrightText": "",
"serviceDataType": "esriImageServiceDataTypeGeneric",
"serviceSourceType": "esriImageServiceSourceTypeMosaicDataset",
"objectIdField": "OBJECTID",
"fields": [
{
"name": "OBJECTID",
"type": "esriFieldTypeOID",
"alias": "OBJECTID",
"domain": null
},
{
"name": "Name",
"type": "esriFieldTypeString",
"alias": "Name",
"domain": null,
"length": 200
},
{
"name": "MinPS",
"type": "esriFieldTypeDouble",
"alias": "MinPS",
"domain": null
},
{
"name": "MaxPS",
"type": "esriFieldTypeDouble",
"alias": "MaxPS",
"domain": null
},
{
"name": "LowPS",
"type": "esriFieldTypeDouble",
"alias": "LowPS",
"domain": null
},
{
"name": "HighPS",
"type": "esriFieldTypeDouble",
"alias": "HighPS",
"domain": null
},
{
"name": "Category",
"type": "esriFieldTypeInteger",
"alias": "Category",
"domain": {
"type": "codedValue",
"name": "MosaicCatalogItemCategoryDomain",
"description": "Catalog item categories.",
"codedValues": [
{
"name": "Unknown",
"code": 0
},
{
"name": "Primary",
"code": 1
},
{
"name": "Overview",
"code": 2
},
{
"name": "Unprocessed Overview",
"code": 3
},
{
"name": "Partial Overview",
"code": 4
},
{
"name": "Inactive",
"code": 5
},
{
"name": "Uploaded",
"code": 253
},
{
"name": "Incomplete",
"code": 254
},
{
"name": "Custom",
"code": 255
}
],
"mergePolicy": "esriMPTDefaultValue",
"splitPolicy": "esriSPTDefaultValue"
}
},
{
"name": "Tag",
"type": "esriFieldTypeString",
"alias": "Tag",
"domain": null,
"length": 100
},
{
"name": "GroupName",
"type": "esriFieldTypeString",
"alias": "GroupName",
"domain": null,
"length": 100
},
{
"name": "ProductName",
"type": "esriFieldTypeString",
"alias": "ProductName",
"domain": null,
"length": 100
},
{
"name": "CenterX",
"type": "esriFieldTypeDouble",
"alias": "CenterX",
"domain": null
},
{
"name": "CenterY",
"type": "esriFieldTypeDouble",
"alias": "CenterY",
"domain": null
},
{
"name": "ZOrder",
"type": "esriFieldTypeInteger",
"alias": "ZOrder",
"domain": null
},
{
"name": "Start",
"type": "esriFieldTypeInteger",
"alias": "Begin Survey Date",
"domain": null
},
{
"name": "End_",
"type": "esriFieldTypeInteger",
"alias": "End Survey Date",
"domain": null
},
{
"name": "PixelValue",
"type": "esriFieldTypeString",
"alias": "Pixel Value",
"domain": {
"type": "codedValue",
"name": "PixelValue",
"description": "Pixel value",
"codedValues": [
{
"name": "Bathymetry",
"code": "Bathymetry"
},
{
"name": "Backscatter (Grayscale)",
"code": "Backscatter (Grayscale)"
},
{
"name": "Backscatter (Decibels)",
"code": "Backscatter (Decibels)"
}
],
"mergePolicy": "esriMPTDefaultValue",
"splitPolicy": "esriSPTDefaultValue"
},
"length": 30
},
{
"name": "Units",
"type": "esriFieldTypeString",
"alias": "Raster x/y Units",
"domain": {
"type": "codedValue",
"name": "UnitsStudyAreaRasters",
"description": "Units study area rasters",
"codedValues": [
{
"name": "Meters",
"code": "Meters"
},
{
"name": "Feet",
"code": "Feet"
},
{
"name": "Other",
"code": "Other"
}
],
"mergePolicy": "esriMPTDefaultValue",
"splitPolicy": "esriSPTDefaultValue"
},
"length": 10
},
{
"name": "Datum",
"type": "esriFieldTypeString",
"alias": "Vertical Datum",
"domain": null,
"length": 10
},
{
"name": "Resolution",
"type": "esriFieldTypeDouble",
"alias": "Resolution",
"domain": null
},
{
"name": "StudyID",
"type": "esriFieldTypeString",
"alias": "Study ID",
"domain": null,
"length": 250
},
{
"name": "Originator",
"type": "esriFieldTypeString",
"alias": "Originator",
"domain": null,
"length": 200
},
{
"name": "SupplementalInfo",
"type": "esriFieldTypeString",
"alias": "Supplemental Information",
"domain": null,
"length": 4000
},
{
"name": "MetaFile",
"type": "esriFieldTypeString",
"alias": "Metadata Filename",
"domain": null,
"length": 250
},
{
"name": "Constraints",
"type": "esriFieldTypeString",
"alias": "Access Constraints",
"domain": {
"type": "codedValue",
"name": "Constraints",
"description": "AccessConstraints",
"codedValues": [
{
"name": "Public",
"code": "Public"
},
{
"name": "Not Public",
"code": "Not Public"
}
],
"mergePolicy": "esriMPTDefaultValue",
"splitPolicy": "esriSPTDefaultValue"
},
"length": 15
},
{
"name": "CoordSystem",
"type": "esriFieldTypeString",
"alias": "Original Coordinate System",
"domain": null,
"length": 100
},
{
"name": "Public_ReportLink",
"type": "esriFieldTypeString",
"alias": "Public Report Link",
"domain": null,
"length": 500
},
{
"name": "Shape",
"type": "esriFieldTypeGeometry",
"alias": "Shape",
"domain": null
},
{
"name": "Shape.STArea()",
"type": "esriFieldTypeDouble",
"alias": "Shape.STArea()",
"domain": null
},
{
"name": "Shape.STLength()",
"type": "esriFieldTypeDouble",
"alias": "Shape.STLength()",
"domain": null
}
],
"capabilities": "Catalog,Mensuration,Pixels,Download,Image,Metadata",
"defaultMosaicMethod": "Northwest",
"allowedMosaicMethods": "NorthWest,Center,LockRaster,ByAttribute,Nadir,Viewpoint,Seamline,None",
"sortField": "",
"sortValue": null,
"sortAscending": true,
"mosaicOperator": "First",
"maxDownloadSizeLimit": 1000000,
"defaultCompressionQuality": 75,
"defaultResamplingMethod": "Bilinear",
"maxImageHeight": 1000000,
"maxImageWidth": 1000000,
"maxRecordCount": 500,
"maxDownloadImageCount": 5,
"maxMosaicImageCount": 500,
"allowRasterFunction": true,
"rasterFunctionInfos": [
{
"name": "None",
"description": "",
"help": ""
}
],
"rasterTypeInfos": [
{
"name": "Raster Dataset",
"description": "Supports all ArcGIS Raster Datasets",
"help": ""
}
],
"mensurationCapabilities": "Basic",
"hasHistograms": true,
"hasColormap": false,
"hasRasterAttributeTable": false,
"minScale": 0,
"maxScale": 0,
"exportTilesAllowed": false,
"supportsStatistics": true,
"supportsAdvancedQueries": true,
"editFieldsInfo": null,
"ownershipBasedAccessControlForRasters": null,
"allowComputeTiePoints": false,
"useStandardizedQueries": true,
"advancedQueryCapabilities": {
"useStandardizedQueries": true,
"supportsStatistics": true,
"supportsOrderBy": true,
"supportsDistinct": true,
"supportsPagination": true
},
"spatialReference": {
"wkid": 4269,
"latestWkid": 4269
},
"resampling": false
}